BEGIN:VCALENDAR
VERSION:2.0
PRODID:-//Dog Training Club of Champaign-Urbana - ECPv6.15.20//NONSGML v1.0//EN
CALSCALE:GREGORIAN
METHOD:PUBLISH
X-ORIGINAL-URL:https://dtccu.com
X-WR-CALDESC:Events for Dog Training Club of Champaign-Urbana
REFRESH-INTERVAL;VALUE=DURATION:PT1H
X-Robots-Tag:noindex
X-PUBLISHED-TTL:PT1H
BEGIN:VTIMEZONE
TZID:America/Chicago
BEGIN:DAYLIGHT
TZOFFSETFROM:-0600
TZOFFSETTO:-0500
TZNAME:CDT
DTSTART:20250309T080000
END:DAYLIGHT
BEGIN:STANDARD
TZOFFSETFROM:-0500
TZOFFSETTO:-0600
TZNAME:CST
DTSTART:20251102T070000
END:STANDARD
BEGIN:DAYLIGHT
TZOFFSETFROM:-0600
TZOFFSETTO:-0500
TZNAME:CDT
DTSTART:20260308T080000
END:DAYLIGHT
BEGIN:STANDARD
TZOFFSETFROM:-0500
TZOFFSETTO:-0600
TZNAME:CST
DTSTART:20261101T070000
END:STANDARD
BEGIN:DAYLIGHT
TZOFFSETFROM:-0600
TZOFFSETTO:-0500
TZNAME:CDT
DTSTART:20270314T080000
END:DAYLIGHT
BEGIN:STANDARD
TZOFFSETFROM:-0500
TZOFFSETTO:-0600
TZNAME:CST
DTSTART:20271107T070000
END:STANDARD
END:VTIMEZONE
BEGIN:VEVENT
DTSTART;TZID=America/Chicago:20260317T080000
DTEND;TZID=America/Chicago:20260317T170000
DTSTAMP:20260423T133544
CREATED:20251204T201847Z
LAST-MODIFIED:20251204T203313Z
UID:11528-1773734400-1773766800@dtccu.com
SUMMARY:Registration for Spring Session
DESCRIPTION:
URL:https://dtccu.com/event/registration-for-spring-session/
CATEGORIES:Classes
END:VEVENT
BEGIN:VEVENT
DTSTART;TZID=America/Chicago:20260321T100000
DTEND;TZID=America/Chicago:20260321T130000
DTSTAMP:20260423T133544
CREATED:20260212T153850Z
LAST-MODIFIED:20260212T203539Z
UID:12525-1774087200-1774098000@dtccu.com
SUMMARY:AKC ACT Standard I & II
DESCRIPTION:Agility Course Test Standard – Standard I has no weaves \n\n\n\nDownload Premium here
URL:https://dtccu.com/event/akc-act-standard-i-ii/
CATEGORIES:Agility Trials,Misc Events
END:VEVENT
BEGIN:VEVENT
DTSTART;TZID=America/Chicago:20260322T130000
DTEND;TZID=America/Chicago:20260322T150000
DTSTAMP:20260423T133544
CREATED:20260227T000306Z
LAST-MODIFIED:20260227T000308Z
UID:12546-1774184400-1774191600@dtccu.com
SUMMARY:Home Companion  Instructor Workshop
DESCRIPTION:
URL:https://dtccu.com/event/home-companion-instructor-workshop/
CATEGORIES:Misc Events
END:VEVENT
BEGIN:VEVENT
DTSTART;TZID=America/Chicago:20260326T183000
DTEND;TZID=America/Chicago:20260326T200000
DTSTAMP:20260423T133544
CREATED:20251216T183723Z
LAST-MODIFIED:20260118T145343Z
UID:11557-1774549800-1774555200@dtccu.com
SUMMARY:Orientation for Home Companion\, Puppy Elementary and Puppy Kindergarten
DESCRIPTION:Handlers only\, no dogs at this event
URL:https://dtccu.com/event/home-companion-orientation-2/
CATEGORIES:Classes
END:VEVENT
BEGIN:VEVENT
DTSTART;TZID=America/Chicago:20260329T080000
DTEND;TZID=America/Chicago:20260329T170000
DTSTAMP:20260423T133544
CREATED:20251204T200628Z
LAST-MODIFIED:20251204T200631Z
UID:11510-1774771200-1774803600@dtccu.com
SUMMARY:Spring Session Begins
DESCRIPTION:
URL:https://dtccu.com/event/spring-session-begins/
CATEGORIES:Classes
END:VEVENT
BEGIN:VEVENT
DTSTART;TZID=America/Chicago:20260404T080000
DTEND;TZID=America/Chicago:20260404T170000
DTSTAMP:20260423T133544
CREATED:20251204T201100Z
LAST-MODIFIED:20251204T201102Z
UID:11518-1775289600-1775322000@dtccu.com
SUMMARY:Obedience Show and Go
DESCRIPTION:
URL:https://dtccu.com/event/obedience-show-and-go-9/
CATEGORIES:Misc Events
END:VEVENT
BEGIN:VEVENT
DTSTART;TZID=America/Chicago:20260407T180000
DTEND;TZID=America/Chicago:20260407T190000
DTSTAMP:20260423T133544
CREATED:20251204T193224Z
LAST-MODIFIED:20251204T193227Z
UID:11462-1775584800-1775588400@dtccu.com
SUMMARY:Board Meeting
DESCRIPTION:
URL:https://dtccu.com/event/board-meeting-21/
CATEGORIES:Board Meeting
END:VEVENT
BEGIN:VEVENT
DTSTART;TZID=America/Chicago:20260407T190000
DTEND;TZID=America/Chicago:20260407T203000
DTSTAMP:20260423T133544
CREATED:20251204T194633Z
LAST-MODIFIED:20251204T194636Z
UID:11482-1775588400-1775593800@dtccu.com
SUMMARY:Membership Meeting
DESCRIPTION:
URL:https://dtccu.com/event/membership-meeting-21/
CATEGORIES:General Membership Meeting
END:VEVENT
BEGIN:VEVENT
DTSTART;TZID=America/Chicago:20260412T080000
DTEND;TZID=America/Chicago:20260412T170000
DTSTAMP:20260423T133544
CREATED:20251112T151823Z
LAST-MODIFIED:20260128T191539Z
UID:11398-1775980800-1776013200@dtccu.com
SUMMARY:TD / TDX Tracking Test
DESCRIPTION:Download Premium Here
URL:https://dtccu.com/event/td-tdx-tracking-test/
CATEGORIES:Tracking Trials
END:VEVENT
BEGIN:VEVENT
DTSTART;TZID=America/Chicago:20260418T080000
DTEND;TZID=America/Chicago:20260418T120000
DTSTAMP:20260423T133544
CREATED:20260128T193451Z
LAST-MODIFIED:20260128T193454Z
UID:12452-1776499200-1776513600@dtccu.com
SUMMARY:AKC Nosework Seminar
DESCRIPTION:
URL:https://dtccu.com/event/akc-nosework-seminar/
CATEGORIES:Nosework,Seminars
END:VEVENT
BEGIN:VEVENT
DTSTART;TZID=America/Chicago:20260425T080000
DTEND;TZID=America/Chicago:20260426T170000
DTSTAMP:20260423T133544
CREATED:20251216T183943Z
LAST-MODIFIED:20260320T144831Z
UID:11559-1777104000-1777222800@dtccu.com
SUMMARY:Agility Trials
DESCRIPTION:Trials held at Bark and Run in Champaign\, Il \n\n\n\nPremium available for download \n\n\n\nVolunteer Link \n\n\n\nAgility Job Descriptions
URL:https://dtccu.com/event/agility-trials-9/
CATEGORIES:Agility Trials
END:VEVENT
BEGIN:VEVENT
DTSTART;TZID=America/Chicago:20260502T080000
DTEND;TZID=America/Chicago:20260502T170000
DTSTAMP:20260423T133544
CREATED:20251204T201201Z
LAST-MODIFIED:20251204T201204Z
UID:11520-1777708800-1777741200@dtccu.com
SUMMARY:Obedience Show and Go
DESCRIPTION:
URL:https://dtccu.com/event/obedience-show-and-go-10/
CATEGORIES:Misc Events
END:VEVENT
BEGIN:VEVENT
DTSTART;TZID=America/Chicago:20260503T130000
DTEND;TZID=America/Chicago:20260503T160000
DTSTAMP:20260423T133544
CREATED:20260423T012426Z
LAST-MODIFIED:20260423T012429Z
UID:12724-1777813200-1777824000@dtccu.com
SUMMARY:Sniff Club\, aka DTCCU members who do scent sports
DESCRIPTION:DTCCU members who do scent sports\, is getting together on Sunday\, May 3\, 1 to 4 pm\, for a Trial Prep event at the club building.  All teams that have experience doing nose work are welcome!  There will be a variety of types of searches using different odors and odor strengths\, giving teams the opportunity to practice their skills.  It will be ‘all hands on deck’ for setting up and running searches.  Proper odor handling will be stressed\, as well as proper storage for ‘hot’ items.  We’ll be starting with AKC and NACSW odors and odor strengths\, but may branch out to other venues in future practices\, depending on interest.   \n\n\n\nPlease contact Dave Stone (stone2@illinois.edu) if you have questions and/or if you plan to attend.  Non-members may attend without dogs to observe and learn.  
URL:https://dtccu.com/event/sniff-club-aka-dtccu-members-who-do-scent-sports/
CATEGORIES:Nosework
END:VEVENT
BEGIN:VEVENT
DTSTART;TZID=America/Chicago:20260505T180000
DTEND;TZID=America/Chicago:20260505T190000
DTSTAMP:20260423T133544
CREATED:20251204T193341Z
LAST-MODIFIED:20251204T193344Z
UID:11464-1778004000-1778007600@dtccu.com
SUMMARY:Board Meeting
DESCRIPTION:
URL:https://dtccu.com/event/board-meeting-22/
CATEGORIES:Board Meeting
END:VEVENT
BEGIN:VEVENT
DTSTART;TZID=America/Chicago:20260505T190000
DTEND;TZID=America/Chicago:20260505T203000
DTSTAMP:20260423T133544
CREATED:20251204T194751Z
LAST-MODIFIED:20251204T194753Z
UID:11484-1778007600-1778013000@dtccu.com
SUMMARY:Membership Meeting
DESCRIPTION:
URL:https://dtccu.com/event/membership-meeting-22/
CATEGORIES:General Membership Meeting
END:VEVENT
BEGIN:VEVENT
DTSTART;TZID=America/Chicago:20260601T183000
DTEND;TZID=America/Chicago:20260601T200000
DTSTAMP:20260423T133544
CREATED:20251216T184148Z
LAST-MODIFIED:20260309T182837Z
UID:11561-1780338600-1780344000@dtccu.com
SUMMARY:CGC Test
DESCRIPTION:
URL:https://dtccu.com/event/cgc-test-3/
CATEGORIES:Misc Events
END:VEVENT
BEGIN:VEVENT
DTSTART;TZID=America/Chicago:20260602T180000
DTEND;TZID=America/Chicago:20260602T190000
DTSTAMP:20260423T133544
CREATED:20251204T193503Z
LAST-MODIFIED:20251204T193507Z
UID:11466-1780423200-1780426800@dtccu.com
SUMMARY:Board Meeting
DESCRIPTION:
URL:https://dtccu.com/event/board-meeting-23/
CATEGORIES:Board Meeting
END:VEVENT
BEGIN:VEVENT
DTSTART;TZID=America/Chicago:20260602T190000
DTEND;TZID=America/Chicago:20260602T203000
DTSTAMP:20260423T133544
CREATED:20251204T194859Z
LAST-MODIFIED:20251204T194902Z
UID:11486-1780426800-1780432200@dtccu.com
SUMMARY:Membership Meeting
DESCRIPTION:
URL:https://dtccu.com/event/membership-meeting-23/
CATEGORIES:General Membership Meeting
END:VEVENT
BEGIN:VEVENT
DTSTART;TZID=America/Chicago:20260605T170000
DTEND;TZID=America/Chicago:20260605T200000
DTSTAMP:20260423T133544
CREATED:20260314T013858Z
LAST-MODIFIED:20260314T013901Z
UID:12674-1780678800-1780689600@dtccu.com
SUMMARY:Rent A Ring (Obedience)
DESCRIPTION:
URL:https://dtccu.com/event/rent-a-ring-obedience/
CATEGORIES:Obedience Trials
END:VEVENT
BEGIN:VEVENT
DTSTART;TZID=America/Chicago:20260606T080000
DTEND;TZID=America/Chicago:20260607T170000
DTSTAMP:20260423T133544
CREATED:20260314T014006Z
LAST-MODIFIED:20260402T174508Z
UID:12676-1780732800-1780851600@dtccu.com
SUMMARY:Obedience Trials
DESCRIPTION:Premium available for download
URL:https://dtccu.com/event/obedience-trials-7/
CATEGORIES:Obedience Trials
END:VEVENT
BEGIN:VEVENT
DTSTART;TZID=America/Chicago:20260607T080000
DTEND;TZID=America/Chicago:20260607T170000
DTSTAMP:20260423T133544
CREATED:20251204T202048Z
LAST-MODIFIED:20251204T202051Z
UID:11530-1780819200-1780851600@dtccu.com
SUMMARY:Registration for Summer Session
DESCRIPTION:
URL:https://dtccu.com/event/registration-for-summer-session/
CATEGORIES:Classes
END:VEVENT
BEGIN:VEVENT
DTSTART;TZID=America/Chicago:20260616T180000
DTEND;TZID=America/Chicago:20260616T210000
DTSTAMP:20260423T133544
CREATED:20260423T012101Z
LAST-MODIFIED:20260423T012105Z
UID:12721-1781632800-1781643600@dtccu.com
SUMMARY:ORT Workshop
DESCRIPTION:
URL:https://dtccu.com/event/ort-workshop/
CATEGORIES:Nosework
END:VEVENT
BEGIN:VEVENT
DTSTART;TZID=America/Chicago:20260618T183000
DTEND;TZID=America/Chicago:20260618T200000
DTSTAMP:20260423T133544
CREATED:20251204T200300Z
LAST-MODIFIED:20251204T200303Z
UID:11506-1781807400-1781812800@dtccu.com
SUMMARY:Orientation for Home Companion\, Puppy Elementary and Puppy Kindergarten
DESCRIPTION:Handlers Only\, No dogs
URL:https://dtccu.com/event/orientation-for-home-companion-puppy-elementary-and-puppy-kindergarten-5/
CATEGORIES:Classes
END:VEVENT
BEGIN:VEVENT
DTSTART;TZID=America/Chicago:20260621T080000
DTEND;TZID=America/Chicago:20260621T170000
DTSTAMP:20260423T133544
CREATED:20251204T200742Z
LAST-MODIFIED:20251204T200745Z
UID:11512-1782028800-1782061200@dtccu.com
SUMMARY:Summer Session Begins
DESCRIPTION:
URL:https://dtccu.com/event/summer-session-begins/
CATEGORIES:Classes
END:VEVENT
BEGIN:VEVENT
DTSTART;TZID=America/Chicago:20260627T080000
DTEND;TZID=America/Chicago:20260628T170000
DTSTAMP:20260423T133544
CREATED:20260413T143615Z
LAST-MODIFIED:20260413T143618Z
UID:12707-1782547200-1782666000@dtccu.com
SUMMARY:Agility Seminar with Steve Schwarz (Agility Nerd)
DESCRIPTION:Details coming soon!
URL:https://dtccu.com/event/agility-seminar-with-steve-schwarz-agility-nerd/
CATEGORIES:Seminars
END:VEVENT
BEGIN:VEVENT
DTSTART;TZID=America/Chicago:20260707T180000
DTEND;TZID=America/Chicago:20260707T190000
DTSTAMP:20260423T133544
CREATED:20251204T193627Z
LAST-MODIFIED:20251204T193630Z
UID:11468-1783447200-1783450800@dtccu.com
SUMMARY:Board Meeting
DESCRIPTION:
URL:https://dtccu.com/event/board-meeting-24/
END:VEVENT
BEGIN:VEVENT
DTSTART;TZID=America/Chicago:20260707T180000
DTEND;TZID=America/Chicago:20260707T203000
DTSTAMP:20260423T133544
CREATED:20251204T195005Z
LAST-MODIFIED:20251204T195007Z
UID:11488-1783447200-1783456200@dtccu.com
SUMMARY:Membership Meeting
DESCRIPTION:
URL:https://dtccu.com/event/membership-meeting-24/
CATEGORIES:General Membership Meeting
END:VEVENT
BEGIN:VEVENT
DTSTART;TZID=America/Chicago:20260718T080000
DTEND;TZID=America/Chicago:20260718T170000
DTSTAMP:20260423T133544
CREATED:20260413T144138Z
LAST-MODIFIED:20260413T144142Z
UID:12711-1784361600-1784394000@dtccu.com
SUMMARY:AKC ACT I&II Standard
DESCRIPTION:To follow at conclusion of Agility Trial
URL:https://dtccu.com/event/akc-act-iii-standard/
CATEGORIES:Agility Trials
END:VEVENT
BEGIN:VEVENT
DTSTART;TZID=America/Chicago:20260718T080000
DTEND;TZID=America/Chicago:20260719T170000
DTSTAMP:20260423T133544
CREATED:20260413T143955Z
LAST-MODIFIED:20260413T143959Z
UID:12709-1784361600-1784480400@dtccu.com
SUMMARY:Agility Trial Novice and Open
DESCRIPTION:
URL:https://dtccu.com/event/agility-trial-novice-and-open/
CATEGORIES:Agility Trials
END:VEVENT
BEGIN:VEVENT
DTSTART;TZID=America/Chicago:20260725T080000
DTEND;TZID=America/Chicago:20260726T170000
DTSTAMP:20260423T133544
CREATED:20260413T144246Z
LAST-MODIFIED:20260423T023425Z
UID:12713-1784966400-1785085200@dtccu.com
SUMMARY:Rally Trial
DESCRIPTION:Premium available for download
URL:https://dtccu.com/event/rally-trial/
CATEGORIES:Rally Trials
END:VEVENT
END:VCALENDAR