BEGIN:VCALENDAR
VERSION:2.0
PRODID:-//Dog Training Club of Champaign-Urbana - ECPv6.15.20//NONSGML v1.0//EN
CALSCALE:GREGORIAN
METHOD:PUBLISH
X-WR-CALNAME:Dog Training Club of Champaign-Urbana
X-ORIGINAL-URL:https://dtccu.com
X-WR-CALDESC:Events for Dog Training Club of Champaign-Urbana
REFRESH-INTERVAL;VALUE=DURATION:PT1H
X-Robots-Tag:noindex
X-PUBLISHED-TTL:PT1H
BEGIN:VTIMEZONE
TZID:America/Chicago
BEGIN:DAYLIGHT
TZOFFSETFROM:-0600
TZOFFSETTO:-0500
TZNAME:CDT
DTSTART:20240310T080000
END:DAYLIGHT
BEGIN:STANDARD
TZOFFSETFROM:-0500
TZOFFSETTO:-0600
TZNAME:CST
DTSTART:20241103T070000
END:STANDARD
BEGIN:DAYLIGHT
TZOFFSETFROM:-0600
TZOFFSETTO:-0500
TZNAME:CDT
DTSTART:20250309T080000
END:DAYLIGHT
BEGIN:STANDARD
TZOFFSETFROM:-0500
TZOFFSETTO:-0600
TZNAME:CST
DTSTART:20251102T070000
END:STANDARD
BEGIN:DAYLIGHT
TZOFFSETFROM:-0600
TZOFFSETTO:-0500
TZNAME:CDT
DTSTART:20260308T080000
END:DAYLIGHT
BEGIN:STANDARD
TZOFFSETFROM:-0500
TZOFFSETTO:-0600
TZNAME:CST
DTSTART:20261101T070000
END:STANDARD
END:VTIMEZONE
BEGIN:VEVENT
DTSTART;TZID=America/Chicago:20250823T100000
DTEND;TZID=America/Chicago:20250823T164500
DTSTAMP:20260423T011644
CREATED:20250616T013419Z
LAST-MODIFIED:20250818T194034Z
UID:11190-1755943200-1755967500@dtccu.com
SUMMARY:Agility Seminar
DESCRIPTION:Sherry Kluever is coming to DTCCU on Saturday August 23 to teach TWO Novice/Open Agility seminars.  \n\n\n\nSherry Kluever\, BlaznK9 has over 20 years of agility teaching experience. Sherry’s training philosophy is based on positive\, enthusiastic training methods. She has the unique talent to understand ALL types of handler/dog teams and provide INDIVIDUAL solutions to problems. Additional information on Sherry is on the registration form. \n\n\n\nThe seminars offer incredible opportunities for Working Teams and Auditing. Please consider auditing\, it offers so much! If you play agility\, it is a learning experience as you observe others. Instructors will see all aspects of agility teaching methods\, plus dog sport motivation and problem solving. Best of all….DTCCU is providing FREE auditing for its instructors who have taught in the past year in any venue. \n\n\n\nThe attached registration form has all the details on the seminars. Download Form Here Highlights are: \n\n\n\n1. Two Agility Seminars at Novice/Open Level \n\n\n\n\nHandling Seminar – 10 Working Spots 10am to 1:30pm\n\n\n\nWeaves Seminar – 8 Working Spots 2:15pm to 4:45pm\n\n\n\n\n2.  Member Priority \n\n\n\nDTCCU Members have priority to Working Spots. \n\n\n\n3.  Teacher Cards \n\n\n\nMembers may use one teacher card to apply $40 to a Working Spot \n\n\n\n3.  Auditing FREE for DTCCU Instructors \n\n\n\nAuditing is unlimited. \n\n\n\nFree Auditing for DTCCU Teachers (any venue) from Fall 2024\, Winter 2024\, Spring 2025\, Summer 2025 \n\n\n\n4. Random Draw \n\n\n\nA random draw on July 7th will be used to select working spots. \n\n\n\nThe registration form has all the details for the seminars. Don’t miss this opportunity. \n\n\n\nQuestions…just let me know. \n\n\n\nLisa Pellum \n\n\n\nlpellum@hotmail.com
URL:https://dtccu.com/event/agility-seminar/
CATEGORIES:Seminars
ATTACH;FMTTYPE=image/jpeg:https://dtccu.com/wp-content/uploads/2020/11/83521927_10156656251821456_7309288688519741440_n.jpg
END:VEVENT
END:VCALENDAR