BEGIN:VCALENDAR
VERSION:2.0
PRODID:-//Dog Training Club of Champaign-Urbana - ECPv6.15.20//NONSGML v1.0//EN
CALSCALE:GREGORIAN
METHOD:PUBLISH
X-ORIGINAL-URL:https://dtccu.com
X-WR-CALDESC:Events for Dog Training Club of Champaign-Urbana
REFRESH-INTERVAL;VALUE=DURATION:PT1H
X-Robots-Tag:noindex
X-PUBLISHED-TTL:PT1H
BEGIN:VTIMEZONE
TZID:America/Chicago
BEGIN:DAYLIGHT
TZOFFSETFROM:-0600
TZOFFSETTO:-0500
TZNAME:CDT
DTSTART:20240310T080000
END:DAYLIGHT
BEGIN:STANDARD
TZOFFSETFROM:-0500
TZOFFSETTO:-0600
TZNAME:CST
DTSTART:20241103T070000
END:STANDARD
BEGIN:DAYLIGHT
TZOFFSETFROM:-0600
TZOFFSETTO:-0500
TZNAME:CDT
DTSTART:20250309T080000
END:DAYLIGHT
BEGIN:STANDARD
TZOFFSETFROM:-0500
TZOFFSETTO:-0600
TZNAME:CST
DTSTART:20251102T070000
END:STANDARD
BEGIN:DAYLIGHT
TZOFFSETFROM:-0600
TZOFFSETTO:-0500
TZNAME:CDT
DTSTART:20260308T080000
END:DAYLIGHT
BEGIN:STANDARD
TZOFFSETFROM:-0500
TZOFFSETTO:-0600
TZNAME:CST
DTSTART:20261101T070000
END:STANDARD
BEGIN:DAYLIGHT
TZOFFSETFROM:-0600
TZOFFSETTO:-0500
TZNAME:CDT
DTSTART:20270314T080000
END:DAYLIGHT
BEGIN:STANDARD
TZOFFSETFROM:-0500
TZOFFSETTO:-0600
TZNAME:CST
DTSTART:20271107T070000
END:STANDARD
END:VTIMEZONE
BEGIN:VEVENT
DTSTART;TZID=America/Chicago:20250327T183000
DTEND;TZID=America/Chicago:20250327T200000
DTSTAMP:20260424T100458
CREATED:20241023T130359Z
LAST-MODIFIED:20241023T130400Z
UID:10714-1743100200-1743105600@dtccu.com
SUMMARY:Orientation for Home Companion\, Puppy Elementary and Puppy Kindergarten
DESCRIPTION:Handlers only\, no dogs at this event
URL:https://dtccu.com/event/orientation-for-home-companion-puppy-elementary-and-puppy-kindergarten/
CATEGORIES:Classes
END:VEVENT
BEGIN:VEVENT
DTSTART;TZID=America/Chicago:20250330T080000
DTEND;TZID=America/Chicago:20250330T170000
DTSTAMP:20260424T100458
CREATED:20241023T130440Z
LAST-MODIFIED:20241023T130442Z
UID:10716-1743321600-1743354000@dtccu.com
SUMMARY:Spring Session Classes begin
DESCRIPTION:
URL:https://dtccu.com/event/spring-session-classes-begin/
CATEGORIES:Classes
END:VEVENT
BEGIN:VEVENT
DTSTART;TZID=America/Chicago:20250602T183000
DTEND;TZID=America/Chicago:20250602T200000
DTSTAMP:20260424T100458
CREATED:20241023T130516Z
LAST-MODIFIED:20250520T205441Z
UID:10718-1748889000-1748894400@dtccu.com
SUMMARY:CGC Tests
DESCRIPTION:Doors open at 6:15 for registration. First Come / First Served. Free is you have taken a class at DTCCU. Walk ins are welcome at $10. Retests are available if only one item on the test was missed for $5.
URL:https://dtccu.com/event/cgc-tests-2/
CATEGORIES:Classes
END:VEVENT
BEGIN:VEVENT
DTSTART;TZID=America/Chicago:20250603T080000
DTEND;TZID=America/Chicago:20250603T170000
DTSTAMP:20260424T100458
CREATED:20241023T130621Z
LAST-MODIFIED:20241023T130622Z
UID:10720-1748937600-1748970000@dtccu.com
SUMMARY:Registration for Summer Session Begins
DESCRIPTION:
URL:https://dtccu.com/event/registration-for-summer-session-begins/
CATEGORIES:Classes
END:VEVENT
BEGIN:VEVENT
DTSTART;TZID=America/Chicago:20250619T183000
DTEND;TZID=America/Chicago:20250619T200000
DTSTAMP:20260424T100458
CREATED:20241023T130831Z
LAST-MODIFIED:20241023T130833Z
UID:10722-1750357800-1750363200@dtccu.com
SUMMARY:Orientation for Home Companion\, Puppy Elementary and Puppy Kindergarten
DESCRIPTION:Handlers only\, no dogs at this event
URL:https://dtccu.com/event/orientation-for-home-companion-puppy-elementary-and-puppy-kindergarten-2/
CATEGORIES:Classes
END:VEVENT
BEGIN:VEVENT
DTSTART;TZID=America/Chicago:20250825T183000
DTEND;TZID=America/Chicago:20250825T200000
DTSTAMP:20260424T100458
CREATED:20241023T130931Z
LAST-MODIFIED:20250807T015640Z
UID:10724-1756146600-1756152000@dtccu.com
SUMMARY:CGC Tests
DESCRIPTION:
URL:https://dtccu.com/event/cgc-tests-3/
CATEGORIES:Classes
END:VEVENT
BEGIN:VEVENT
DTSTART;TZID=America/Chicago:20250826T080000
DTEND;TZID=America/Chicago:20250826T170000
DTSTAMP:20260424T100458
CREATED:20241023T131117Z
LAST-MODIFIED:20241023T131119Z
UID:10726-1756195200-1756227600@dtccu.com
SUMMARY:Registration for Fall Session begins
DESCRIPTION:
URL:https://dtccu.com/event/registration-for-fall-session-begins/
CATEGORIES:Classes
END:VEVENT
BEGIN:VEVENT
DTSTART;TZID=America/Chicago:20250911T183000
DTEND;TZID=America/Chicago:20250911T200000
DTSTAMP:20260424T100458
CREATED:20241023T131304Z
LAST-MODIFIED:20241023T131306Z
UID:10728-1757615400-1757620800@dtccu.com
SUMMARY:Orientation for Home Companion\, Puppy Elementary and Puppy Kindergarten
DESCRIPTION:Handlers only\, no dogs at this event
URL:https://dtccu.com/event/orientation-for-home-companion-puppy-elementary-and-puppy-kindergarten-3/
CATEGORIES:Classes
END:VEVENT
BEGIN:VEVENT
DTSTART;TZID=America/Chicago:20251117T183000
DTEND;TZID=America/Chicago:20251117T200000
DTSTAMP:20260424T100458
CREATED:20241023T131351Z
LAST-MODIFIED:20251016T023745Z
UID:10730-1763404200-1763409600@dtccu.com
SUMMARY:CGC Tests
DESCRIPTION:Doors open at 6:15 for registration. First Come / First Served. Free is you have taken a class at DTCCU. Walk ins are welcome at $10. Retests are available if only one item on the test was missed for $5.
URL:https://dtccu.com/event/cgc-tests-4/
CATEGORIES:Classes
END:VEVENT
BEGIN:VEVENT
DTSTART;TZID=America/Chicago:20251214T080000
DTEND;TZID=America/Chicago:20251214T170000
DTSTAMP:20260424T100458
CREATED:20251015T223157Z
LAST-MODIFIED:20251204T203615Z
UID:11343-1765699200-1765731600@dtccu.com
SUMMARY:Registration for Winter session begins.
DESCRIPTION:Registration page
URL:https://dtccu.com/event/registration-for-winter-session-begins/
CATEGORIES:Classes
END:VEVENT
BEGIN:VEVENT
DTSTART;TZID=America/Chicago:20260108T183000
DTEND;TZID=America/Chicago:20260108T200000
DTSTAMP:20260424T100458
CREATED:20251015T223509Z
LAST-MODIFIED:20251204T195922Z
UID:11347-1767897000-1767902400@dtccu.com
SUMMARY:Orientation for Home Companion\, Puppy Elementary and Puppy Kindergarten
DESCRIPTION:Handlers only\, no dogs.
URL:https://dtccu.com/event/home-companion-orientation/
CATEGORIES:Classes
END:VEVENT
BEGIN:VEVENT
DTSTART;TZID=America/Chicago:20260111T080000
DTEND;TZID=America/Chicago:20260111T170000
DTSTAMP:20260424T100458
CREATED:20251015T223610Z
LAST-MODIFIED:20251015T223612Z
UID:11349-1768118400-1768150800@dtccu.com
SUMMARY:Winter Session classes begin
DESCRIPTION:
URL:https://dtccu.com/event/winter-session-classes-begin/
CATEGORIES:Classes
END:VEVENT
BEGIN:VEVENT
DTSTART;TZID=America/Chicago:20260317T080000
DTEND;TZID=America/Chicago:20260317T170000
DTSTAMP:20260424T100458
CREATED:20251204T201847Z
LAST-MODIFIED:20251204T203313Z
UID:11528-1773734400-1773766800@dtccu.com
SUMMARY:Registration for Spring Session
DESCRIPTION:
URL:https://dtccu.com/event/registration-for-spring-session/
CATEGORIES:Classes
END:VEVENT
BEGIN:VEVENT
DTSTART;TZID=America/Chicago:20260326T183000
DTEND;TZID=America/Chicago:20260326T200000
DTSTAMP:20260424T100458
CREATED:20251216T183723Z
LAST-MODIFIED:20260118T145343Z
UID:11557-1774549800-1774555200@dtccu.com
SUMMARY:Orientation for Home Companion\, Puppy Elementary and Puppy Kindergarten
DESCRIPTION:Handlers only\, no dogs at this event
URL:https://dtccu.com/event/home-companion-orientation-2/
CATEGORIES:Classes
END:VEVENT
BEGIN:VEVENT
DTSTART;TZID=America/Chicago:20260329T080000
DTEND;TZID=America/Chicago:20260329T170000
DTSTAMP:20260424T100458
CREATED:20251204T200628Z
LAST-MODIFIED:20251204T200631Z
UID:11510-1774771200-1774803600@dtccu.com
SUMMARY:Spring Session Begins
DESCRIPTION:
URL:https://dtccu.com/event/spring-session-begins/
CATEGORIES:Classes
END:VEVENT
BEGIN:VEVENT
DTSTART;TZID=America/Chicago:20260607T080000
DTEND;TZID=America/Chicago:20260607T170000
DTSTAMP:20260424T100458
CREATED:20251204T202048Z
LAST-MODIFIED:20251204T202051Z
UID:11530-1780819200-1780851600@dtccu.com
SUMMARY:Registration for Summer Session
DESCRIPTION:
URL:https://dtccu.com/event/registration-for-summer-session/
CATEGORIES:Classes
END:VEVENT
BEGIN:VEVENT
DTSTART;TZID=America/Chicago:20260618T183000
DTEND;TZID=America/Chicago:20260618T200000
DTSTAMP:20260424T100458
CREATED:20251204T200300Z
LAST-MODIFIED:20251204T200303Z
UID:11506-1781807400-1781812800@dtccu.com
SUMMARY:Orientation for Home Companion\, Puppy Elementary and Puppy Kindergarten
DESCRIPTION:Handlers Only\, No dogs
URL:https://dtccu.com/event/orientation-for-home-companion-puppy-elementary-and-puppy-kindergarten-5/
CATEGORIES:Classes
END:VEVENT
BEGIN:VEVENT
DTSTART;TZID=America/Chicago:20260621T080000
DTEND;TZID=America/Chicago:20260621T170000
DTSTAMP:20260424T100458
CREATED:20251204T200742Z
LAST-MODIFIED:20251204T200745Z
UID:11512-1782028800-1782061200@dtccu.com
SUMMARY:Summer Session Begins
DESCRIPTION:
URL:https://dtccu.com/event/summer-session-begins/
CATEGORIES:Classes
END:VEVENT
BEGIN:VEVENT
DTSTART;TZID=America/Chicago:20260910T183000
DTEND;TZID=America/Chicago:20260910T203000
DTSTAMP:20260424T100458
CREATED:20251204T200500Z
LAST-MODIFIED:20251204T200503Z
UID:11508-1789065000-1789072200@dtccu.com
SUMMARY:Orientation for Home Companion\, Puppy Elementary and Puppy Kindergarten
DESCRIPTION:Handlers Only\, No Dogs
URL:https://dtccu.com/event/orientation-for-home-companion-puppy-elementary-and-puppy-kindergarten-6/
CATEGORIES:Classes
END:VEVENT
BEGIN:VEVENT
DTSTART;TZID=America/Chicago:20260913T080000
DTEND;TZID=America/Chicago:20260913T170000
DTSTAMP:20260424T100458
CREATED:20251204T200855Z
LAST-MODIFIED:20251204T200858Z
UID:11514-1789286400-1789318800@dtccu.com
SUMMARY:Fall Session Begins
DESCRIPTION:
URL:https://dtccu.com/event/fall-session-begins/
CATEGORIES:Classes
END:VEVENT
END:VCALENDAR